BEGIN:VCALENDAR
VERSION:2.0
PRODID:-//Kulturforum Ostbevern - ECPv6.15.20//NONSGML v1.0//EN
CALSCALE:GREGORIAN
METHOD:PUBLISH
X-ORIGINAL-URL:https://kulturforum-ostbevern.de
X-WR-CALDESC:Veranstaltungen für Kulturforum Ostbevern
REFRESH-INTERVAL;VALUE=DURATION:PT1H
X-Robots-Tag:noindex
X-PUBLISHED-TTL:PT1H
BEGIN:VTIMEZONE
TZID:UTC
BEGIN:STANDARD
TZOFFSETFROM:+0000
TZOFFSETTO:+0000
TZNAME:UTC
DTSTART:20250101T000000
END:STANDARD
END:VTIMEZONE
BEGIN:VEVENT
DTSTART;VALUE=DATE:20260531
DTEND;VALUE=DATE:20260706
DTSTAMP:20260425T215856
CREATED:20260218T202655Z
LAST-MODIFIED:20260218T202655Z
UID:1091-1780185600-1783295999@kulturforum-ostbevern.de
SUMMARY:AUSSTELLUNG: Augenschmaus
DESCRIPTION:von Mechtild Darquenne-Danwerth \nVernissage am 31.05.2026 um 14.00 Uhr \nEintritt frei
URL:https://kulturforum-ostbevern.de/event/ausstellung-augenschmaus/
LOCATION:La Folie\, Telgter Str. 12\, Ostbevern\, 48346
CATEGORIES:Ausstellung,Kunst
END:VEVENT
END:VCALENDAR