BEGIN:VCALENDAR
VERSION:2.0
PRODID:-//Kulturforum Ostbevern - ECPv6.15.20//NONSGML v1.0//EN
CALSCALE:GREGORIAN
METHOD:PUBLISH
X-ORIGINAL-URL:https://kulturforum-ostbevern.de
X-WR-CALDESC:Veranstaltungen für Kulturforum Ostbevern
REFRESH-INTERVAL;VALUE=DURATION:PT1H
X-Robots-Tag:noindex
X-PUBLISHED-TTL:PT1H
BEGIN:VTIMEZONE
TZID:UTC
BEGIN:STANDARD
TZOFFSETFROM:+0000
TZOFFSETTO:+0000
TZNAME:UTC
DTSTART:20230101T000000
END:STANDARD
END:VTIMEZONE
BEGIN:VEVENT
DTSTART;TZID=UTC:20240310T170000
DTEND;TZID=UTC:20240310T190000
DTSTAMP:20260425T221651
CREATED:20240114T162939Z
LAST-MODIFIED:20240921T153636Z
UID:684-1710090000-1710097200@kulturforum-ostbevern.de
SUMMARY:Loburger SchlossKONZERT
DESCRIPTION:mit Gregor Weichert \nAm Sonntag\, den 10. März\, findet im Rittersaal das nächste Loburger Schlosskonzert statt\, dieses Mal nach längerer Zeit wieder mit Gregor Weichert\, einem Pianisten und emeritierten Hochschulprofessor\, der eigentlich\, zumal in Ostbevern\, keiner weiteren Vorstellung bedarf. Dennoch sei\, um die Bedeutung dieses Musikers zu verdeutlichen\, auf einige Stationen seiner beeindruckenden Laufbahn hingewiesen: In Ostpreußen geboren\, war und ist Gregor Weichert bis heute nicht nur als Pianist\, sondern eben auch als Musikpädagoge tätig\, zunächst als Leiter der Musikschule in Soest/Westfalen\, seit 1975 bis zur Emeritierung als Professor an der Musikhochschule Münster\, seitdem als Lehrbeauftragter für Klavier am Waldorf Institut Witten Annen. Insgesamt sieben seiner ehemaligen Schüler wirken heute als Professoren an deutschen Hochschulen und Universitäten. \nAuf dem Programm des Loburger Schlosskonzertes\, das thematisch dem Frühling gewidmet ist\, stehen Werke von Bach\, Mozart\, Schubert\, Liszt\, Chopin und Ernst Haberbier\, einem beinah gänzlich in Vergessenheit geratenen\, von Gregor Weichert selbst wiederentdeckten Komponisten der deutschen Romantik. Das Konzert beginnt um 17 Uhr. \nEintritt: 15\,- €
URL:https://kulturforum-ostbevern.de/event/klavierkonzert/
LOCATION:Rittersaal Loburg\, Loburg 15\, Ostbevern\, 48346
CATEGORIES:Konzert,Musik
ATTACH;FMTTYPE=image/jpeg:https://kulturforum-ostbevern.de/wp-content/uploads/2024/01/Gregor-Weichert.jpg
END:VEVENT
END:VCALENDAR