BEGIN:VCALENDAR
VERSION:2.0
PRODID:-//Kulturforum Ostbevern - ECPv6.15.20//NONSGML v1.0//EN
CALSCALE:GREGORIAN
METHOD:PUBLISH
X-ORIGINAL-URL:https://kulturforum-ostbevern.de
X-WR-CALDESC:Veranstaltungen für Kulturforum Ostbevern
REFRESH-INTERVAL;VALUE=DURATION:PT1H
X-Robots-Tag:noindex
X-PUBLISHED-TTL:PT1H
BEGIN:VTIMEZONE
TZID:UTC
BEGIN:STANDARD
TZOFFSETFROM:+0000
TZOFFSETTO:+0000
TZNAME:UTC
DTSTART:20230101T000000
END:STANDARD
END:VTIMEZONE
BEGIN:VEVENT
DTSTART;TZID=UTC:20240121T202400
DTEND;TZID=UTC:20240225T202400
DTSTAMP:20260425T122519
CREATED:20240114T161438Z
LAST-MODIFIED:20240126T121513Z
UID:677-1705868640-1708892640@kulturforum-ostbevern.de
SUMMARY:AUSSTELLUNG: Don Quijote
DESCRIPTION:Fotografie: Raffaele Horstmann \nDie Künstlerin MARTINA LÜCKENER und der Künstler BENEDIKT BURGHOFF präsentieren im Ausstellungskubus La Folie Ostbevern die mehrteilige Installation Don Quijote.\nZur Ausstellung erscheint eine Serielle Grafik\, bestehend aus je drei Tuschezeichnungen im Rahmen\, in einer 9er Auflage\, die käuflich erworben werden kann. \nMartina Lückener und Benedikt Burghoff arbeiten seit 2009 künstlerisch zusammen.\nIhre Arbeitsschwerpunkte bilden ortsbezogene Kunst\, sowie Malerei\, Zeichnung und Schattenschnitte.\nViele Motive ihrer Arbeiten sind auch als Entwurf für großformatige Wandgestaltungen\, Skulpturen und Kunst im Öffentlichen Raum zu verstehen. \n  \nAktuell sind u.a. folgende gemeinsame Werke des Künstlerpaares im Öffentlichen Raum zu sehen:\n– Hausgestaltung Jib/Gleis 22\, Münster\, Nähe Hbf (seit 2010)\n– „Talking Heads“\, zwei Kunstbänke im Bürgerpark Maria Lindenhof\, Dorsten (seit 2021)\n– „Schattenspiel“\, Werner-Jaeger-Halle\, Nettetal (seit 2021)\n– „Spiel“\, Turnhalle Waldschule Kinderhaus-Münster (seit 2022) \nKONTAKT:\nMartina Lückener und Benedikt Burghoff\nmartina.lueckener@gmx.de und benediktburghoff@gmx.de\nwww.martina-lueckener.de | instagram: martina.lueckener\n016096533684 \nDie Ausstellung kann nach vorheriger telefonischer Absprache (0160.96533684) besichtigt werden. \n 
URL:https://kulturforum-ostbevern.de/event/installation-don-quijote/
LOCATION:La Folie\, Telgter Str. 12\, Ostbevern\, 48346
CATEGORIES:Ausstellung,Kunst
ATTACH;FMTTYPE=image/jpeg:https://kulturforum-ostbevern.de/wp-content/uploads/2024/01/2024-Benedikt-Burghoff_Martina-Lueckener_Foto-Raffaele-Horstmann-2021.jpg
END:VEVENT
END:VCALENDAR