BEGIN:VCALENDAR
VERSION:2.0
PRODID:-//Kulturforum Ostbevern - ECPv6.15.20//NONSGML v1.0//EN
CALSCALE:GREGORIAN
METHOD:PUBLISH
X-ORIGINAL-URL:https://kulturforum-ostbevern.de
X-WR-CALDESC:Veranstaltungen für Kulturforum Ostbevern
REFRESH-INTERVAL;VALUE=DURATION:PT1H
X-Robots-Tag:noindex
X-PUBLISHED-TTL:PT1H
BEGIN:VTIMEZONE
TZID:UTC
BEGIN:STANDARD
TZOFFSETFROM:+0000
TZOFFSETTO:+0000
TZNAME:UTC
DTSTART:20220101T000000
END:STANDARD
END:VTIMEZONE
BEGIN:VEVENT
DTSTART;VALUE=DATE:20231105
DTEND;VALUE=DATE:20231127
DTSTAMP:20260425T221701
CREATED:20230917T144546Z
LAST-MODIFIED:20231109T182536Z
UID:426-1699142400-1701043199@kulturforum-ostbevern.de
SUMMARY:AUSSTELLUNG "Optimaler Komfort"
DESCRIPTION:Minhae Kim bietet Einblicke in einen künstlerischen Arbeitsprozess\, der zwischen Skulptur und Zeichnung angesiedelt ist. \nWährend der Bewegungen von Gedankenspiel und Strichelungen in verschiedenen Situationen\, dokumentiert die Künstlerin Eindrücke und untersucht Paradoxa und Flexibilität. \nDiese Mehrdeutigkeit wird als natürlicher und einzigartiger Aspekt anerkannt und bildet den Prozess für die Perspektive und Struktur des Gewachsenen\, durch die ein Individuum durchaus kreative Reflexion der Komplexität des Lebens betrachten kann. \nDie Ausstellung kann nach vorheriger telefonischer Absprache (02532/7239) besichtigt werden.
URL:https://kulturforum-ostbevern.de/event/ausstellung-optimaler-komfort/
LOCATION:La Folie\, Telgter Str. 12\, Ostbevern\, 48346
CATEGORIES:Ausstellung
ATTACH;FMTTYPE=image/jpeg:https://kulturforum-ostbevern.de/wp-content/uploads/2023/09/2023_Minhae-Kim.jpg
END:VEVENT
BEGIN:VEVENT
DTSTART;TZID=UTC:20231123T193000
DTEND;TZID=UTC:20231123T213000
DTSTAMP:20260425T221701
CREATED:20230917T145423Z
LAST-MODIFIED:20231027T063316Z
UID:430-1700767800-1700775000@kulturforum-ostbevern.de
SUMMARY:KABARETT zum internationalen Männertag
DESCRIPTION:mit Impro 005 \n„Kabarettistisches Spitzenspiel\, Situationskomik vom Feinsten\, Nonsens für Feinschmecker. Immer wieder Laola-Wellen der Begeisterung.“ (Westfälische Nachrichten) \nVorverkauf: 12\,00 €\, Abendkasse: 15\,00 € \nKartenbestellungBitte aktiviere JavaScript in deinem Browser\, um dieses Formular fertigzustellen.Bitte aktiviere JavaScript in deinem Browser\, um dieses Formular fertigzustellen.Name *VornameNachnameAdresse *E-Mail *Veranstaltung *ermäßigte Karten/AnzahlNormale Karten/Anzahl *Bemerkung an das Kulturforum OstbevernAbsenden
URL:https://kulturforum-ostbevern.de/event/kabarett-zum-internatiomnalen-maennertag/
LOCATION:Ambrosius-Schule\, Schulstraße 5\, Ostbevern\, 48346
CATEGORIES:Theater
ATTACH;FMTTYPE=image/jpeg:https://kulturforum-ostbevern.de/wp-content/uploads/2023/09/impro005-2017-12.jpg
END:VEVENT
END:VCALENDAR