BEGIN:VCALENDAR
VERSION:2.0
PRODID:-//Kulturforum Ostbevern - ECPv6.15.20//NONSGML v1.0//EN
CALSCALE:GREGORIAN
METHOD:PUBLISH
X-WR-CALNAME:Kulturforum Ostbevern
X-ORIGINAL-URL:https://kulturforum-ostbevern.de
X-WR-CALDESC:Veranstaltungen für Kulturforum Ostbevern
REFRESH-INTERVAL;VALUE=DURATION:PT1H
X-Robots-Tag:noindex
X-PUBLISHED-TTL:PT1H
BEGIN:VTIMEZONE
TZID:UTC
BEGIN:STANDARD
TZOFFSETFROM:+0000
TZOFFSETTO:+0000
TZNAME:UTC
DTSTART:20220101T000000
END:STANDARD
END:VTIMEZONE
BEGIN:VEVENT
DTSTART;TZID=UTC:20230924T170000
DTEND;TZID=UTC:20230924T190000
DTSTAMP:20260426T040240
CREATED:20230917T144214Z
LAST-MODIFIED:20240117T204448Z
UID:423-1695574800-1695582000@kulturforum-ostbevern.de
SUMMARY:Loburger SchlossKONZERTE
DESCRIPTION:Duo „Cello Duello“ \nDas erste vom Kulturforum ausgerichtete Loburger Schlosskonzert verspricht ein ganz besonderes zu werden: Jens Peter Maintz und Wolfgang Emanuel Schmidt\, auch bekannt unter dem Namen „Cello Duello“\, werden erstmals in Ostbevern zu Gast sein. Unter diesem Namen\, der zugleich Programm ist\, liefern sich die beiden Ausnahmecellisten\, die auch überaus erfolgreich als Solisten\, Kammermusiker und Hochschulprofessoren tätig sind\, seit über 30 Jahren auf der ganzen Welt musikalische Gefechte auf der Bühne. Auf dem Programm stehen Werke von Haydn\, Paganini\, David Popper und ein eigens für „Cello Duello“ komponiertes Stück von Sören Nils Eichberg. \nDer Preis für eine Karte im Vorverkauf beträgt 15 Euro\, an der Abendkasse 20 Euro. \nKartenbestellungBitte aktiviere JavaScript in deinem Browser\, um dieses Formular fertigzustellen.Bitte aktiviere JavaScript in deinem Browser\, um dieses Formular fertigzustellen.Name *VornameNachnameAdresse *E-Mail *Veranstaltung *ermäßigte Karten/AnzahlNormale Karten/Anzahl *Bemerkung an das Kulturforum OstbevernAbsenden
URL:https://kulturforum-ostbevern.de/event/loburger-schlosskonzerte/
LOCATION:Rittersaal Loburg\, Loburg 15\, Ostbevern\, 48346
CATEGORIES:Musik
ATTACH;FMTTYPE=image/jpeg:https://kulturforum-ostbevern.de/wp-content/uploads/2023/09/celloduello.jpg
END:VEVENT
END:VCALENDAR